BEGIN:VCALENDAR
VERSION:2.0
PRODID:-//Empowerliving - ECPv6.2.9//NONSGML v1.0//EN
CALSCALE:GREGORIAN
METHOD:PUBLISH
X-ORIGINAL-URL:https://www.empowerliving.org
X-WR-CALDESC:Events for Empowerliving
REFRESH-INTERVAL;VALUE=DURATION:PT1H
X-Robots-Tag:noindex
X-PUBLISHED-TTL:PT1H
BEGIN:VTIMEZONE
TZID:UTC
BEGIN:STANDARD
TZOFFSETFROM:+0000
TZOFFSETTO:+0000
TZNAME:UTC
DTSTART:20230101T000000
END:STANDARD
TZID:Asia/Karachi
BEGIN:STANDARD
TZOFFSETFROM:+0500
TZOFFSETTO:+0500
TZNAME:PKT
DTSTART:20230101T000000
END:STANDARD
END:VTIMEZONE
BEGIN:VEVENT
DTSTART;TZID=UTC:20230921T184500
DTEND;TZID=UTC:20230921T194500
DTSTAMP:20260424T143711
CREATED:20221211T214310Z
LAST-MODIFIED:20230920T193123Z
UID:682-1695321900-1695325500@www.empowerliving.org
SUMMARY:Power Talks
DESCRIPTION:“Power Talks” is our weekly Thursday night Spiritual and Fellowship Service\, that takes place from\n6:45pm-7:45 pm. This weekly spiritual experience engages you with great music and uplifting\,\nexhilarating\, spiritual messages. These dynamic messages stirs the soul and engages the mind to higher\nlevel thinking\, that allows individuals to embrace their innate greatness. Power Talks provides the tools\nnecessary to live a healthy\, happy\, and prosperous life. Come and share in this weekly fellowship\nprepare for a transformative experience.
URL:https://www.empowerliving.org/event/power-talks/
LOCATION:The Henry Booth House 2907 South Wabash  Chicago\, IL 60616\, 2907 South Wabash\, Chicago\, 60616\, United States
ATTACH;FMTTYPE=image/jpeg:https://www.empowerliving.org/wp-content/uploads/2023/01/POWER-TALK_WEB-AD-2023.jpg
ORGANIZER;CN="Roderick Norton":MAILTO:info@empowerliving.org
END:VEVENT
BEGIN:VEVENT
DTSTART;TZID=Asia/Karachi:20230328T184500
DTEND;TZID=Asia/Karachi:20230328T194500
DTSTAMP:20260424T143711
CREATED:20150515T180207Z
LAST-MODIFIED:20230325T214707Z
UID:34-1680029100-1680032700@www.empowerliving.org
SUMMARY:Bible Study
DESCRIPTION:Bible Study \nAfter experiencing our weekly Metaphysical Bible Study sessions at the Empowerment Center\, the study\nof the Bible will never be the same for you again. Our bible study sessions are held every Tuesday\nevening from 6:45 PM – 7:45 PM CST and have been described by many as the ‘best metaphysical bible\nstudy’ sessions in the Chicagoland area. The sessions are in-depth studies that are enriching\, relevant\nspiritual interpretations of the Bible. We go “beyond the literal” interpretation of the Bible to the\nmetaphysical interpretation for a more profound practical application of scripture in your everyday life.\nLet the Bible come alive for you in a new way\, while making some new self-discoveries about yourself\nand your unique relationship to God.
URL:https://www.empowerliving.org/event/get-connected-class-2/
LOCATION:The Henry Booth House 2907 South Wabash  Chicago\, IL 60616\, 2907 South Wabash\, Chicago\, 60616\, United States
ATTACH;FMTTYPE=image/jpeg:https://www.empowerliving.org/wp-content/uploads/2023/01/BIBLE-STUDY-WEB-AD-B.jpg
END:VEVENT
END:VCALENDAR